BEGIN:VCALENDAR
VERSION:2.0
PRODID:-//Osage Casinos - ECPv6.15.20//NONSGML v1.0//EN
CALSCALE:GREGORIAN
METHOD:PUBLISH
X-WR-CALNAME:Osage Casinos
X-ORIGINAL-URL:https://www.osagecasino.com
X-WR-CALDESC:Events for Osage Casinos
REFRESH-INTERVAL;VALUE=DURATION:PT1H
X-Robots-Tag:noindex
X-PUBLISHED-TTL:PT1H
BEGIN:VTIMEZONE
TZID:America/Chicago
BEGIN:DAYLIGHT
TZOFFSETFROM:-0600
TZOFFSETTO:-0500
TZNAME:CDT
DTSTART:20250309T080000
END:DAYLIGHT
BEGIN:STANDARD
TZOFFSETFROM:-0500
TZOFFSETTO:-0600
TZNAME:CST
DTSTART:20251102T070000
END:STANDARD
BEGIN:DAYLIGHT
TZOFFSETFROM:-0600
TZOFFSETTO:-0500
TZNAME:CDT
DTSTART:20260308T080000
END:DAYLIGHT
BEGIN:STANDARD
TZOFFSETFROM:-0500
TZOFFSETTO:-0600
TZNAME:CST
DTSTART:20261101T070000
END:STANDARD
BEGIN:DAYLIGHT
TZOFFSETFROM:-0600
TZOFFSETTO:-0500
TZNAME:CDT
DTSTART:20270314T080000
END:DAYLIGHT
BEGIN:STANDARD
TZOFFSETFROM:-0500
TZOFFSETTO:-0600
TZNAME:CST
DTSTART:20271107T070000
END:STANDARD
END:VTIMEZONE
BEGIN:VEVENT
DTSTART;TZID=America/Chicago:20260508T210000
DTEND;TZID=America/Chicago:20260508T230000
DTSTAMP:20260423T113848
CREATED:20260421T195503Z
LAST-MODIFIED:20260421T195503Z
UID:10000243-1778274000-1778281200@www.osagecasino.com
SUMMARY:Stephanie Oliver
DESCRIPTION:Friday May 8th and Saturday May 9th Stephanie Oliver is coming to Thunder Bar in Osage Casino & Hotel Tulsa at 9p.m. ’60s\, ’70s\, ’80s music.
URL:https://www.osagecasino.com/event/stephanie-oliver/2026-05-08/
LOCATION:Thunder Bar
END:VEVENT
BEGIN:VEVENT
DTSTART;TZID=America/Chicago:20260508T210000
DTEND;TZID=America/Chicago:20260508T230000
DTSTAMP:20260423T113848
CREATED:20260421T200505Z
LAST-MODIFIED:20260421T200505Z
UID:10000253-1778274000-1778281200@www.osagecasino.com
SUMMARY:Brent Giddens
DESCRIPTION:Friday May 8th and Saturday May 9th Brent Giddens is coming to Swigs Bar in Osage Casino & Hotel Tulsa at 9p.m. Country music.
URL:https://www.osagecasino.com/event/brent-giddens/2026-05-08/
LOCATION:Swigs Bar
END:VEVENT
BEGIN:VEVENT
DTSTART;TZID=America/Chicago:20260508T210000
DTEND;TZID=America/Chicago:20260508T230000
DTSTAMP:20260423T113848
CREATED:20260422T135131Z
LAST-MODIFIED:20260422T135131Z
UID:10000260-1778274000-1778281200@www.osagecasino.com
SUMMARY:Steel Skarecrow
DESCRIPTION:Friday May 8th Steel Skarecrow is coming to Scissortail Bar in Osage Casino & Hotel Bartlesville at 9p.m. Country music.
URL:https://www.osagecasino.com/event/steel-skarecrow-2/
END:VEVENT
BEGIN:VEVENT
DTSTART;TZID=America/Chicago:20260509T210000
DTEND;TZID=America/Chicago:20260509T230000
DTSTAMP:20260423T113848
CREATED:20260421T195503Z
LAST-MODIFIED:20260421T195503Z
UID:10000244-1778360400-1778367600@www.osagecasino.com
SUMMARY:Stephanie Oliver
DESCRIPTION:Friday May 8th and Saturday May 9th Stephanie Oliver is coming to Thunder Bar in Osage Casino & Hotel Tulsa at 9p.m. ’60s\, ’70s\, ’80s music.
URL:https://www.osagecasino.com/event/stephanie-oliver/2026-05-09/
LOCATION:Thunder Bar
END:VEVENT
BEGIN:VEVENT
DTSTART;TZID=America/Chicago:20260509T210000
DTEND;TZID=America/Chicago:20260509T230000
DTSTAMP:20260423T113848
CREATED:20260421T200505Z
LAST-MODIFIED:20260421T200505Z
UID:10000254-1778360400-1778367600@www.osagecasino.com
SUMMARY:Brent Giddens
DESCRIPTION:Friday May 8th and Saturday May 9th Brent Giddens is coming to Swigs Bar in Osage Casino & Hotel Tulsa at 9p.m. Country music.
URL:https://www.osagecasino.com/event/brent-giddens/2026-05-09/
LOCATION:Swigs Bar
END:VEVENT
BEGIN:VEVENT
DTSTART;TZID=America/Chicago:20260515T210000
DTEND;TZID=America/Chicago:20260515T230000
DTSTAMP:20260423T113848
CREATED:20260421T195701Z
LAST-MODIFIED:20260421T195701Z
UID:10000245-1778878800-1778886000@www.osagecasino.com
SUMMARY:Travis Kidd Band
DESCRIPTION:Friday May 15th and Saturday May 16th the Travis Kidd Band are coming to Thunder Bar in Osage Casino & Hotel Tulsa at 9p.m. Country/classic rock/ blues music.
URL:https://www.osagecasino.com/event/travis-kidd-band/2026-05-15/
LOCATION:Thunder Bar
END:VEVENT
BEGIN:VEVENT
DTSTART;TZID=America/Chicago:20260515T210000
DTEND;TZID=America/Chicago:20260515T230000
DTSTAMP:20260423T113848
CREATED:20260421T200633Z
LAST-MODIFIED:20260421T200633Z
UID:10000255-1778878800-1778886000@www.osagecasino.com
SUMMARY:Rockfisch 2.0
DESCRIPTION:Friday May 15th and Saturday May 16th Rockfisch 2.0 is coming to Swigs Bar in Osage Casino & Hotel Tulsa at 9p.m. Pop/rock music.
URL:https://www.osagecasino.com/event/rockfisch-2-0/2026-05-15/
LOCATION:Swigs Bar
END:VEVENT
BEGIN:VEVENT
DTSTART;TZID=America/Chicago:20260515T210000
DTEND;TZID=America/Chicago:20260515T230000
DTSTAMP:20260423T113848
CREATED:20260422T135327Z
LAST-MODIFIED:20260422T135327Z
UID:10000261-1778878800-1778886000@www.osagecasino.com
SUMMARY:Outlaws Reloaded
DESCRIPTION:Friday May 15th Outlaws Reloaded is coming to Scissortail Bar in Osage Casino & Hotel Bartlesville at 9p.m. Country music.
URL:https://www.osagecasino.com/event/outlaws-reloaded-3/
LOCATION:Scissortail Bar
END:VEVENT
BEGIN:VEVENT
DTSTART;TZID=America/Chicago:20260515T210000
DTEND;TZID=America/Chicago:20260515T230000
DTSTAMP:20260423T113848
CREATED:20260422T135710Z
LAST-MODIFIED:20260422T135710Z
UID:10000264-1778878800-1778886000@www.osagecasino.com
SUMMARY:Born In November
DESCRIPTION:Friday May 15th Born In November is coming to The Copper Tap Bar in Osage Casino & Hotel Ponca City at 9p.m. R&B/Soul/Pop music.
URL:https://www.osagecasino.com/event/born-in-november-5/
LOCATION:Ponca City\, 64464 US-60\, Ponca City\, 74604\, United States
END:VEVENT
BEGIN:VEVENT
DTSTART;TZID=America/Chicago:20260516T210000
DTEND;TZID=America/Chicago:20260516T230000
DTSTAMP:20260423T113848
CREATED:20260421T195701Z
LAST-MODIFIED:20260421T195701Z
UID:10000246-1778965200-1778972400@www.osagecasino.com
SUMMARY:Travis Kidd Band
DESCRIPTION:Friday May 15th and Saturday May 16th the Travis Kidd Band are coming to Thunder Bar in Osage Casino & Hotel Tulsa at 9p.m. Country/classic rock/ blues music.
URL:https://www.osagecasino.com/event/travis-kidd-band/2026-05-16/
LOCATION:Thunder Bar
END:VEVENT
BEGIN:VEVENT
DTSTART;TZID=America/Chicago:20260516T210000
DTEND;TZID=America/Chicago:20260516T230000
DTSTAMP:20260423T113848
CREATED:20260421T200633Z
LAST-MODIFIED:20260421T200633Z
UID:10000256-1778965200-1778972400@www.osagecasino.com
SUMMARY:Rockfisch 2.0
DESCRIPTION:Friday May 15th and Saturday May 16th Rockfisch 2.0 is coming to Swigs Bar in Osage Casino & Hotel Tulsa at 9p.m. Pop/rock music.
URL:https://www.osagecasino.com/event/rockfisch-2-0/2026-05-16/
LOCATION:Swigs Bar
END:VEVENT
BEGIN:VEVENT
DTSTART;TZID=America/Chicago:20260522T210000
DTEND;TZID=America/Chicago:20260522T210000
DTSTAMP:20260423T113848
CREATED:20260421T200828Z
LAST-MODIFIED:20260422T173515Z
UID:10000267-1779483600-1779483600@www.osagecasino.com
SUMMARY:Scot & Dale
DESCRIPTION:Friday May 22nd and Saturday May 23rd Scot & Dale are coming to Swigs Bar in Osage Casino & Hotel Tulsa at 9p.m. Country/classic rock/blues music.
URL:https://www.osagecasino.com/event/scot-dale-2/2026-05-22/
LOCATION:Swigs Bar
END:VEVENT
BEGIN:VEVENT
DTSTART;TZID=America/Chicago:20260522T210000
DTEND;TZID=America/Chicago:20260522T230000
DTSTAMP:20260423T113848
CREATED:20260421T195842Z
LAST-MODIFIED:20260422T173317Z
UID:10000266-1779483600-1779490800@www.osagecasino.com
SUMMARY:The Real Lo
DESCRIPTION:Friday May 22nd and Saturday May 23rd The Real Lo is coming to Thunder Bar in Osage Casino & Hotel Tulsa at 9p.m. Rock/pop music.
URL:https://www.osagecasino.com/event/the-real-lo/2026-05-22/
LOCATION:Thunder Bar
END:VEVENT
BEGIN:VEVENT
DTSTART;TZID=America/Chicago:20260522T210000
DTEND;TZID=America/Chicago:20260522T230000
DTSTAMP:20260423T113848
CREATED:20260422T135421Z
LAST-MODIFIED:20260422T135421Z
UID:10000262-1779483600-1779490800@www.osagecasino.com
SUMMARY:Biscuits & Gravy
DESCRIPTION:Friday May 22nd Biscuits & Gravy is coming to Scissortail Bar in Osage Casino & Hotel Bartlesville at 9p.m. Country/rock music.
URL:https://www.osagecasino.com/event/biscuits-gravy/
LOCATION:Scissortail Bar
END:VEVENT
BEGIN:VEVENT
DTSTART;TZID=America/Chicago:20260523T210000
DTEND;TZID=America/Chicago:20260523T230000
DTSTAMP:20260423T113848
CREATED:20260421T195842Z
LAST-MODIFIED:20260422T173317Z
UID:10000247-1779570000-1779577200@www.osagecasino.com
SUMMARY:The Real Lo
DESCRIPTION:Friday May 22nd and Saturday May 23rd The Real Lo is coming to Thunder Bar in Osage Casino & Hotel Tulsa at 9p.m. Rock/pop music.
URL:https://www.osagecasino.com/event/the-real-lo/2026-05-23/
LOCATION:Thunder Bar
END:VEVENT
BEGIN:VEVENT
DTSTART;TZID=America/Chicago:20260523T210000
DTEND;TZID=America/Chicago:20260523T230000
DTSTAMP:20260423T113848
CREATED:20260421T200828Z
LAST-MODIFIED:20260422T173515Z
UID:10000268-1779570000-1779577200@www.osagecasino.com
SUMMARY:Scot & Dale
DESCRIPTION:Friday May 22nd and Saturday May 23rd Scot & Dale are coming to Swigs Bar in Osage Casino & Hotel Tulsa at 9p.m. Country/classic rock/blues music.
URL:https://www.osagecasino.com/event/scot-dale-2/2026-05-23/
LOCATION:Swigs Bar
END:VEVENT
BEGIN:VEVENT
DTSTART;TZID=America/Chicago:20260529T210000
DTEND;TZID=America/Chicago:20260529T230000
DTSTAMP:20260423T113848
CREATED:20260421T200036Z
LAST-MODIFIED:20260421T200036Z
UID:10000249-1780088400-1780095600@www.osagecasino.com
SUMMARY:Paul Roper Band
DESCRIPTION:Friday May 29th and Saturday May 30th the Paul Roper Band are coming to Thunder Bar in Osage Casino & Hotel Tulsa at 9p.m. Country/classics music.
URL:https://www.osagecasino.com/event/paul-roper-band-5/2026-05-29/
LOCATION:Thunder Bar
END:VEVENT
BEGIN:VEVENT
DTSTART;TZID=America/Chicago:20260529T210000
DTEND;TZID=America/Chicago:20260529T230000
DTSTAMP:20260423T113848
CREATED:20260421T201047Z
LAST-MODIFIED:20260422T134838Z
UID:10000257-1780088400-1780095600@www.osagecasino.com
SUMMARY:Curt Hill
DESCRIPTION:Friday May 29th and Saturday May 30th Curt Hill is coming to Swigs Bar in Osage Casino & Hotel Tulsa at 9p.m. Classics music.
URL:https://www.osagecasino.com/event/curt-hill-2/2026-05-29/
LOCATION:Swigs Bar
END:VEVENT
BEGIN:VEVENT
DTSTART;TZID=America/Chicago:20260529T210000
DTEND;TZID=America/Chicago:20260529T230000
DTSTAMP:20260423T113848
CREATED:20260422T135539Z
LAST-MODIFIED:20260422T135539Z
UID:10000263-1780088400-1780095600@www.osagecasino.com
SUMMARY:Bad Decisions
DESCRIPTION:Friday May 29th Bad Decisions is coming to Scissortail Bar in Osage Casino & Hotel Bartlesville at 9p.m. Rock/R&B/Blues music.
URL:https://www.osagecasino.com/event/bad-decisions-3/
LOCATION:Scissortail Bar
END:VEVENT
BEGIN:VEVENT
DTSTART;TZID=America/Chicago:20260530T210000
DTEND;TZID=America/Chicago:20260530T230000
DTSTAMP:20260423T113848
CREATED:20260421T200036Z
LAST-MODIFIED:20260421T200036Z
UID:10000250-1780174800-1780182000@www.osagecasino.com
SUMMARY:Paul Roper Band
DESCRIPTION:Friday May 29th and Saturday May 30th the Paul Roper Band are coming to Thunder Bar in Osage Casino & Hotel Tulsa at 9p.m. Country/classics music.
URL:https://www.osagecasino.com/event/paul-roper-band-5/2026-05-30/
LOCATION:Thunder Bar
END:VEVENT
BEGIN:VEVENT
DTSTART;TZID=America/Chicago:20260530T210000
DTEND;TZID=America/Chicago:20260530T230000
DTSTAMP:20260423T113848
CREATED:20260421T201047Z
LAST-MODIFIED:20260422T134838Z
UID:10000258-1780174800-1780182000@www.osagecasino.com
SUMMARY:Curt Hill
DESCRIPTION:Friday May 29th and Saturday May 30th Curt Hill is coming to Swigs Bar in Osage Casino & Hotel Tulsa at 9p.m. Classics music.
URL:https://www.osagecasino.com/event/curt-hill-2/2026-05-30/
LOCATION:Swigs Bar
END:VEVENT
BEGIN:VEVENT
DTSTART;TZID=America/Chicago:20260530T210000
DTEND;TZID=America/Chicago:20260530T230000
DTSTAMP:20260423T113848
CREATED:20260422T135850Z
LAST-MODIFIED:20260422T135850Z
UID:10000265-1780174800-1780182000@www.osagecasino.com
SUMMARY:Kevin Price & The Closers
DESCRIPTION:Saturday May 30th Kevin Price & The Closers are coming to Big Spoon Bar in Osage Casino & Hotel Pawhuska at 9p.m. Country music.
URL:https://www.osagecasino.com/event/kevin-price-the-closers/
LOCATION:Pawhuska\, 1421 John Dahl Ave\, Pawhuska\, 74056\, United States
END:VEVENT
END:VCALENDAR