BEGIN:VCALENDAR
VERSION:2.0
PRODID:-//Osage Casinos - ECPv6.15.20//NONSGML v1.0//EN
CALSCALE:GREGORIAN
METHOD:PUBLISH
X-WR-CALNAME:Osage Casinos
X-ORIGINAL-URL:https://www.osagecasino.com
X-WR-CALDESC:Events for Osage Casinos
REFRESH-INTERVAL;VALUE=DURATION:PT1H
X-Robots-Tag:noindex
X-PUBLISHED-TTL:PT1H
BEGIN:VTIMEZONE
TZID:America/Chicago
BEGIN:DAYLIGHT
TZOFFSETFROM:-0600
TZOFFSETTO:-0500
TZNAME:CDT
DTSTART:20250309T080000
END:DAYLIGHT
BEGIN:STANDARD
TZOFFSETFROM:-0500
TZOFFSETTO:-0600
TZNAME:CST
DTSTART:20251102T070000
END:STANDARD
BEGIN:DAYLIGHT
TZOFFSETFROM:-0600
TZOFFSETTO:-0500
TZNAME:CDT
DTSTART:20260308T080000
END:DAYLIGHT
BEGIN:STANDARD
TZOFFSETFROM:-0500
TZOFFSETTO:-0600
TZNAME:CST
DTSTART:20261101T070000
END:STANDARD
BEGIN:DAYLIGHT
TZOFFSETFROM:-0600
TZOFFSETTO:-0500
TZNAME:CDT
DTSTART:20270314T080000
END:DAYLIGHT
BEGIN:STANDARD
TZOFFSETFROM:-0500
TZOFFSETTO:-0600
TZNAME:CST
DTSTART:20271107T070000
END:STANDARD
END:VTIMEZONE
BEGIN:VEVENT
DTSTART;TZID=America/Chicago:20260411T180000
DTEND;TZID=America/Chicago:20260411T235900
DTSTAMP:20260422T044211
CREATED:20260325T161337Z
LAST-MODIFIED:20260325T195023Z
UID:10000238-1775930400-1775951940@www.osagecasino.com
SUMMARY:Big Buffalo Paydays
DESCRIPTION:Win your share of over $350\,000 in Free Play and prizes across all locations! \nSomething big is charging across the prairie this April. Big Buffalo Pay Days at Osage Casino is loaded with weekly Free Play drawings and hundreds of dollars in outdoor gear prizes—from coolers and camping chairs to portable grills\, firepits\, and power stations. Start earning entries April 1\, and keep building them all month long as we stampede toward the April 25 finale and your chance to drive away in a brand-new UTV. \n\nPromotion dates: April 4\, 11\, 18 and 25\, 2026 – Promotion period: 6 p.m. t0 12 a.m.\nLocations: All – Eligibility: Club Osage members.\nWeekly Free Play drawings of $250 will be held at each location\, plus two $1\,000 Free Play drawings in Tulsa and one $1\,000 Free Play drawing at each of the other locations.\nIn addition to the Free Play prize\, winners will receive an outdoor camping accessory package that will vary each week.\nApril 25 at all locations\, a UTV Grand Prize will be awarded at each location at approximately 11:30 p.m.
URL:https://www.osagecasino.com/event/big-buffalo-paydays/2026-04-11/
END:VEVENT
BEGIN:VEVENT
DTSTART;TZID=America/Chicago:20260411T190000
DTEND;TZID=America/Chicago:20260411T220000
DTSTAMP:20260422T044211
CREATED:20251229T172300Z
LAST-MODIFIED:20251229T172300Z
UID:10000069-1775934000-1775944800@www.osagecasino.com
SUMMARY:Colt Ford
DESCRIPTION:Colt Ford is coming to Tulsa Osage Casino & Hotel Skyline Event Center! Find more information and get tickets in the link attached.
URL:https://www.osagecasino.com/event/colt-ford/
LOCATION:Skyline Event Center\, : 951 West 36th St N\, Tulsa\, OK\, 74127
END:VEVENT
BEGIN:VEVENT
DTSTART;TZID=America/Chicago:20260411T210000
DTEND;TZID=America/Chicago:20260411T230000
DTSTAMP:20260422T044211
CREATED:20260317T160926Z
LAST-MODIFIED:20260317T160926Z
UID:10000198-1775941200-1775948400@www.osagecasino.com
SUMMARY:Bad Decisions
DESCRIPTION:Friday April 10th and April 11th Bad Decisions are coming to Thunder Bar in Osage Casino & Hotel Tulsa at 9p.m. Country music. Rock/R&B/Blues music.
URL:https://www.osagecasino.com/event/bad-decisions-2/2026-04-11/
LOCATION:Thunder Bar
END:VEVENT
BEGIN:VEVENT
DTSTART;TZID=America/Chicago:20260411T210000
DTEND;TZID=America/Chicago:20260411T230000
DTSTAMP:20260422T044211
CREATED:20260317T184216Z
LAST-MODIFIED:20260317T184535Z
UID:10000206-1775941200-1775948400@www.osagecasino.com
SUMMARY:Maverican Goose
DESCRIPTION:Friday April 10th and April 11th Maverican Goose are coming to Swigs Bar in Osage Casino & Hotel Tulsa at 9p.m. Rock/Pop music.
URL:https://www.osagecasino.com/event/maverican-goose-3/2026-04-11/
LOCATION:Swigs Bar
END:VEVENT
END:VCALENDAR